Felt | Verdi |
AlreadyApplied | True |
Aperture | 4.0 |
ApertureValue | 4.0 |
ApproximateFocusDistance | 50.1 |
Artist | Odd Leif Andreassen |
AutoLateralCA | 0 |
BitsPerSample | 8 |
Blacks2012 | -30 |
BlueHue | 0 |
BlueSaturation | 0 |
By-line | Odd Leif Andreassen |
CameraProfile | Adobe Standard |
CFAPattern | [Red,Green][Green,Blue] |
CircleOfConfusion | 0.030 mm |
Clarity2012 | 0 |
ColorComponents | 3 |
ColorGradeBlending | 50 |
ColorGradeGlobalHue | 0 |
ColorGradeGlobalLum | 0 |
ColorGradeGlobalSat | 0 |
ColorGradeHighlightLum | 0 |
ColorGradeMidtoneHue | 0 |
ColorGradeMidtoneLum | 0 |
ColorGradeMidtoneSat | 0 |
ColorGradeShadowLum | 0 |
ColorNoiseReduction | 0 |
ColorSpace | sRGB |
ColorTemperature | 5695 |
ColorTransform | YCbCr |
Contrast | Normal |
Contrast2012 | +4 |
Copyright | @Odd Leif Andreassen |
CopyrightNotice | @Odd Leif Andreassen |
CreateDate (1) | 2024:07:01 21:25:08.08+02:00 |
CreateDate | 2024:07:01 21:25:08 |
Creator | Odd Leif Andreassen |
CreatorTool | Adobe Photoshop Lightroom Classic 13.4 (Macintosh) |
CropAngle | 4.92 |
CropBottom | 0.721434 |
CropConstrainToWarp | 0 |
CropLeft | 0.338824 |
CropRight | 0.719615 |
CropTop | 0.177883 |
CustomRendered | Custom |
DateCreated (1) | 2024:07:01 |
DateCreated | 2024:07:01 21:25:08.08+02:00 |
DateTimeOriginal | 2024:07:01 21:25:08 |
Dehaze | 0 |
DOF | 2.39 m (48.93 - 51.32 m) |
EnhanceDenoiseAlreadyApplied | True |
EnhanceDenoiseLumaAmount | 63 |
EnhanceDenoiseVersion | 251658240 |
EnhanceDetailsAlreadyApplied | True |
EnhanceDetailsVersion | 218300416 |
Exposure2012 | +0.27 |
ExposureCompensation | 0 |
ExposureMode | Manual |
ExposureProgram | Manual |
ExposureTime | 1/1600 |
Flash | No Flash |
FNumber | 4.0 |
FocalLength | 500.0 mm |
FocalLength35efl | 500.0 mm (35 mm equivalent: 500.0 mm) |
FocalLengthIn35mmFormat | 500 mm |
Format | image/jpeg |
FOV | 4.1 deg |
GainControl | Low gain up |
GrainAmount | 0 |
GrayMixerAqua | -16 |
GrayMixerBlue | +15 |
GrayMixerGreen | -28 |
GrayMixerMagenta | +4 |
GrayMixerOrange | -21 |
GrayMixerPurple | +19 |
GrayMixerRed | -12 |
GrayMixerYellow | -25 |
GreenHue | 0 |
GreenSaturation | 0 |
HasCrop | True |
HasSettings | True |
HDREditMode | 0 |
Highlights2012 | -75 |
HyperfocalDistance | 2080.13 m |
ImageHeight | 1828 |
ImageNumber | 27109 |
ImageSize | 2285x1828 |
ImageWidth | 2285 |
ISO | 1600 |
Lens | 500mm f/4D |
LensID (1) | 111 |
LensID | AF-S Nikkor 500mm f/4D IF-ED II |
LensInfo | 500mm f/4 |
LensManualDistortionAmount | 0 |
LensModel | 500mm f/4D |
LensProfileEnable | 0 |
LightSource | Unknown |
LightValue | 10.6 |
LookAmount | 1 |
LookCluster | Adobe |
LookGroup | B&W |
LookName | B&W 03 |
LookParametersClarity2012 | +8 |
LookParametersContrast2012 | +57 |
LookParametersConvertToGrayscale | True |
LookParametersLookTable | 62CE423BDCA099FE0B786CA01EB606B0 |
LookParametersProcessVersion | 15.4 |
LookParametersToneCurvePV2012 | 0, 0, 29, 25, 128, 128, 192, 196, 255, 255 |
LookParametersToneCurvePV2012Blue | 0, 0, 255, 255 |
LookParametersToneCurvePV2012Green | 0, 0, 255, 255 |
LookParametersToneCurvePV2012Red | 0, 0, 255, 255 |
LookParametersVersion | 16.4 |
LookSortName | B&W 03 |
LookSupportsMonochrome | false |
LuminanceSmoothing | 0 |
Make | NIKON CORPORATION |
Megapixels | 4.2 |
MeteringMode | Center-weighted average |
Model | NIKON D6 |
ModifyDate (1) | 2024:07:02 12:38:25+02:00 |
ModifyDate | 2024:07:02 12:38:25 |
OverrideLookVignette | False |
ParametricDarks | 0 |
ParametricHighlights | 0 |
ParametricHighlightSplit | 75 |
ParametricLights | 0 |
ParametricMidtoneSplit | 50 |
ParametricShadows | 0 |
ParametricShadowSplit | 25 |
PerspectiveAspect | 0 |
PerspectiveHorizontal | 0 |
PerspectiveRotate | 0.0 |
PerspectiveScale | 100 |
PerspectiveUpright | 0 |
PerspectiveVertical | 0 |
PerspectiveX | 0.00 |
PerspectiveY | 0.00 |
Pick | 0 |
PointColors | -1.000000, -1.000000, -1.000000, -1.000000, -1.000000, -1.000000, -1.000000, -1.000000, -1.000000, -1.000000, -1.000000, -1.000000, -1.000000, -1.000000, -1.000000, -1.000000, -1.000000, -1.000000, -1.000000 |
PostCropVignetteAmount | 0 |
PreservedFileName | MKA_7011.NEF |
ProcessVersion | 15.4 |
ProfileDescription | sRGB IEC61966-2.1 |
RawFileName | MKA_7011-Forbedret-NR.dng |
RecommendedExposureIndex | 1600 |
RedHue | 0 |
RedSaturation | 0 |
Rights | @Odd Leif Andreassen |
Saturation (1) | -10 |
Saturation | Normal |
ScaleFactor35efl | 1.0 |
SceneCaptureType | Standard |
SceneType | Directly photographed |
SensingMethod | One-chip color area |
SensitivityType | Recommended Exposure Index |
SerialNumber | 6001465 |
Shadows2012 | +77 |
ShadowTint | 0 |
SharpenDetail | 25 |
SharpenEdgeMasking | 0 |
SharpenRadius | +1.0 |
Sharpness (1) | 40 |
Sharpness | Normal |
ShutterSpeed | 1/1600 |
ShutterSpeedValue | 1/1600 |
Software | Adobe Photoshop Lightroom Classic 13.4 (Macintosh) |
SplitToningBalance | 0 |
SplitToningHighlightHue | 0 |
SplitToningHighlightSaturation | 0 |
SplitToningShadowHue | 0 |
SplitToningShadowSaturation | 0 |
SubjectDistanceRange | Unknown |
Texture | 0 |
Tint | +25 |
ToneCurveName2012 | Linear |
ToneCurvePV2012 | 0, 0, 255, 255 |
ToneCurvePV2012Blue | 0, 0, 255, 255 |
ToneCurvePV2012Green | 0, 0, 255, 255 |
ToneCurvePV2012Red | 0, 0, 255, 255 |
Version | 16.4 |
Vibrance | +14 |
VignetteAmount | 0 |
WhiteBalance (1) | Custom |
WhiteBalance | Auto |
Whites2012 | +30 |