Felt | Verdi |
AlreadyApplied | True |
Aperture | 4.0 |
ApertureValue | 4.0 |
AutoLateralCA | 0 |
BitsPerSample | 8 |
Blacks2012 | -5 |
BlueHue | 0 |
BlueSaturation | 0 |
Brightness | +50 |
CameraProfile | Embedded |
Caption-Abstract | OLYMPUS DIGITAL CAMERA |
Clarity2012 | 0 |
ColorComponents | 3 |
ColorGradeBlending | 50 |
ColorGradeGlobalHue | 0 |
ColorGradeGlobalLum | 0 |
ColorGradeGlobalSat | 0 |
ColorGradeHighlightLum | -33 |
ColorGradeMidtoneHue | 77 |
ColorGradeMidtoneLum | -29 |
ColorGradeMidtoneSat | 7 |
ColorGradeShadowLum | 0 |
ColorNoiseReduction | 0 |
ColorSpace | sRGB |
ColorTransform | YCbCr |
CompatibleVersion | 251920384 |
Contrast (1) | +25 |
Contrast | Normal |
Contrast2012 | 0 |
ConvertToGrayscale | False |
CreateDate | 2022:10:30 12:55:00 |
CreatorTool | Adobe Lightroom 7.0.1 (Macintosh) |
CropAngle | 0 |
CropBottom | 1 |
CropConstrainToWarp | 0 |
CropLeft | 0 |
CropRight | 1 |
CropTop | 0 |
CurveRefineSaturation | 100 |
CustomRendered | Normal |
DateCreated (1) | 2022:10:30 |
DateCreated | 2022:10:30 12:55:00 |
DateTimeOriginal | 2022:10:30 12:55:00 |
DefringeGreenAmount | 0 |
DefringeGreenHueHi | 60 |
DefringeGreenHueLo | 40 |
DefringePurpleAmount | 0 |
DefringePurpleHueHi | 70 |
DefringePurpleHueLo | 30 |
Dehaze | 0 |
Description | OLYMPUS DIGITAL CAMERA |
DigitalZoomRatio | 1 |
Exposure2012 | 0.00 |
ExposureCompensation | 0 |
ExposureMode | Manual |
ExposureProgram | Manual |
ExposureTime | 1/250 |
Flash | On, Did not fire |
FlashCompensation | 0 |
FNumber | 4.0 |
FocalLength | 44.0 mm |
FocalLength35efl | 44.0 mm |
Format | image/jpeg |
GainControl | High gain up |
GrainAmount | 0 |
GrainFrequency | 50 |
GrainSize | 25 |
GreenHue | 0 |
GreenSaturation | 0 |
HasCrop | False |
HasSettings | True |
HDREditMode | 0 |
Highlights2012 | 0 |
HueAdjustmentAqua | 0 |
HueAdjustmentBlue | 0 |
HueAdjustmentGreen | 0 |
HueAdjustmentMagenta | 0 |
HueAdjustmentOrange | +3 |
HueAdjustmentPurple | 0 |
HueAdjustmentRed | -4 |
HueAdjustmentYellow | 0 |
ImageDescription | OLYMPUS DIGITAL CAMERA |
ImageHeight | 3888 |
ImageSize | 5184x3888 |
ImageWidth | 5184 |
IncrementalTemperature | 0 |
IncrementalTint | 0 |
ISO | 12800 |
Lens | 12.0-100.0 mm f/4.0 |
LensInfo | 12-100mm f/4 |
LensManualDistortionAmount | 0 |
LensModel | 12.0-100.0 mm f/4.0 |
LensProfileEnable | 0 |
LensSerialNumber | ACCA15297 |
LightSource | Other |
LightValue | 5.0 |
LuminanceAdjustmentAqua | 0 |
LuminanceAdjustmentBlue | 0 |
LuminanceAdjustmentGreen | 0 |
LuminanceAdjustmentMagenta | 0 |
LuminanceAdjustmentOrange | 0 |
LuminanceAdjustmentPurple | 0 |
LuminanceAdjustmentRed | +4 |
LuminanceAdjustmentYellow | 0 |
LuminanceSmoothing | 0 |
Make | OLYMPUS CORPORATION |
MaxApertureValue | 4.0 |
Megapixels | 20.2 |
MeteringMode | Spot |
Model | E-M1MarkII |
ModifyDate (1) | 2023:11:13 19:47:30+01:00 |
ModifyDate | 2023:11:13 19:47:30 |
OverrideLookVignette | False |
ParametricDarks | +21 |
ParametricHighlights | 0 |
ParametricHighlightSplit | 66 |
ParametricLights | +13 |
ParametricMidtoneSplit | 45 |
ParametricShadows | 0 |
ParametricShadowSplit | 20 |
PerspectiveAspect | 0 |
PerspectiveHorizontal | 0 |
PerspectiveRotate | 0.0 |
PerspectiveScale | 100 |
PerspectiveUpright | 0 |
PerspectiveVertical | 0 |
PerspectiveX | 0.00 |
PerspectiveY | 0.00 |
PostCropVignetteAmount | 0 |
ProcessVersion | 15.4 |
ProfileDescription | sRGB IEC61966-2.1 |
RangeMaskMapInfoRangeMaskMapInfoLabMax | 0.990982 0.657145 0.644266 |
RangeMaskMapInfoRangeMaskMapInfoLabMin | 0.001373 0.458793 0.470115 |
RangeMaskMapInfoRangeMaskMapInfoRGBMax | 0.898187 0.902129 0.849431 |
RangeMaskMapInfoRangeMaskMapInfoRGBMin | 0.001663 0.001355 0.001059 |
RawFileName | ExhaustBiker.tiff |
RedHue | 0 |
RedSaturation | 0 |
Saturation (1) | 0 |
Saturation | Normal |
SaturationAdjustmentAqua | 0 |
SaturationAdjustmentBlue | 0 |
SaturationAdjustmentGreen | 0 |
SaturationAdjustmentMagenta | 0 |
SaturationAdjustmentOrange | -4 |
SaturationAdjustmentPurple | 0 |
SaturationAdjustmentRed | +4 |
SaturationAdjustmentYellow | 0 |
SceneCaptureType | Standard |
SensitivityType | Standard Output Sensitivity |
SerialNumber | BHUB20830 |
Shadows | 5 |
Shadows2012 | 0 |
ShadowTint | 0 |
Sharpness (1) | 0 |
Sharpness | Normal |
ShutterSpeed | 1/250 |
ShutterSpeedValue | 1/250 |
Software | Adobe Lightroom 7.0.1 (Macintosh) |
SplitToningBalance | 0 |
SplitToningHighlightHue | 44 |
SplitToningHighlightSaturation | 52 |
SplitToningShadowHue | 0 |
SplitToningShadowSaturation | 0 |
Texture | -5 |
ToneCurveName2012 | Custom |
ToneCurvePV2012 | 0, 0, 44, 39, 129, 135, 255, 255 |
ToneCurvePV2012Blue | 0, 0, 255, 255 |
ToneCurvePV2012Green | 0, 0, 255, 255 |
ToneCurvePV2012Red | 0, 0, 255, 255 |
Version | 16.0 |
Vibrance | 0 |
VignetteAmount | 0 |
WhiteBalance (1) | As Shot |
WhiteBalance | Manual |
Whites2012 | 0 |