Felt | Verdi |
AELock | Off |
AFAreas | (111,106)-(144,149) |
AFFineTune | Off |
AFFineTuneAdj | 0 0 0 |
AFPoint | Center (horizontal); Single Target |
AFPointSelected | (50%,50%) (50%,50%) |
AFSearch | Ready |
AlreadyApplied | True |
Aperture | 8.0 |
ApertureValue | 8.0 |
ApproximateFocusDistance | 0.43 |
ArtFilter | Off; 0; 0; 0 |
ArtFilterEffect | Off; 0; 0; Partial Color 0; No Effect; 0; No Color Filter; 0; 0; 0; 0; 0; 0; 0; 0; 0; 0; 0; 0; 0 |
Artist | Torstein Hall |
AspectFrame | 0 0 4031 3023 |
AspectRatio | 4:3 |
AutoLateralCA | 0 |
AutoWhiteVersion | 134348800 |
BitsPerSample | 8 |
BlackLevel2 | 65 64 65 64 |
Blacks2012 | -6 |
BlueBalance | 1.445313 |
BlueHue | 0 |
BlueSaturation | 0 |
BodyFirmwareVersion | 1.201 |
CameraID | OLYMPUS DIGITAL CAMERA |
CameraProfile | Adobe Standard |
CameraSettingsVersion | 0100 |
CameraType2 | E-5 |
CFAPattern | [Blue,Green][Green,Red] |
CircleOfConfusion | 0.015 mm |
Clarity2012 | +13 |
ColorComponents | 3 |
ColorMatrix | 334 -52 -26 -32 336 -48 0 -80 336 |
ColorNoiseReduction | 25 |
ColorNoiseReductionDetail | 50 |
ColorNoiseReductionSmoothness | 50 |
ColorSpace | sRGB |
ColorTemperature | 4950 |
Contrast | High |
Contrast2012 | +38 |
ContrastSetting | 1 (min -5, max 5) |
ConversionLens | |
ConvertToGrayscale | False |
CreateDate | 2012:05:17 12:17:45 |
Creator | Torstein Hall |
CreatorCountry | Norge |
CreatorPostalCode | 1395 |
CreatorTool | DxO PhotoLab 7.1 |
CreatorWorkEmail | tohall@online.no |
CreatorWorkTelephone | +47 94873470 |
CreatorWorkURL | www.ohb.no |
CropAngle | 0 |
CropBottom | 1 |
CropConstrainToWarp | 0 |
CropHeight | 3024 |
CropLeft (1) | 28 0 |
CropLeft | 0 |
CropRight | 1 |
CropTop (1) | 42 0 |
CropTop | 0.026005 |
CropWidth | 4032 |
CustomRendered | Normal |
CustomSaturation | 2 (min -5, max 5) |
DateCreated | 2012:05:17 12:17:45 |
DateTimeOriginal (1) | 2012:05:17 12:17:45+00:00 |
DateTimeOriginal | 2012:05:17 12:17:45 |
DefringeGreenAmount | 0 |
DefringeGreenHueHi | 60 |
DefringeGreenHueLo | 40 |
DefringePurpleAmount | 0 |
DefringePurpleHueHi | 70 |
DefringePurpleHueLo | 30 |
Dehaze | 0 |
DigitalZoomRatio | 1 |
DistortionCorrection | Off |
DistortionCorrection2 | Off |
DOF | 0.007 m (0.421 - 0.429 m) |
DriveMode | Continuous Shooting, Shot 1 |
EquipmentVersion | 0100 |
ExifImageHeight (1) | 3024 |
ExifImageHeight | 1500 |
ExifImageWidth (1) | 4032 |
ExifImageWidth | 2000 |
Exposure2012 | +0.38 |
ExposureCompensation | 0 |
ExposureMode (1) | Aperture-priority AE |
ExposureMode | Auto |
ExposureProgram | Aperture-priority AE |
ExposureShift | 0.16 |
ExposureTime | 1/800 |
ExtendedWBDetect | On |
Extender | Olympus Zuiko Digital EC-14 1.4x Teleconverter |
ExtenderFirmwareVersion | 1.001 |
ExtenderModel | OLYMPUS 1.4x Telecon. |
ExtenderSerialNumber | 040201074 |
ExtenderStatus | Attached |
ExternalFlash | Off |
ExternalFlashBounce | Bounce or Off |
ExternalFlashZoom | 0 |
FaceDetectFrameCrop | 0 0 0 0 0 0 0 0 0 0 0 0 |
FaceDetectFrameSize | 0 0 0 0 0 0 |
FacesDetected | 0 0 0 |
Flash | Auto, Did not fire |
FlashCompensation | 0 |
FlashControlMode | Unknown (1); 1; 0 |
FlashExposureComp | 0 |
FlashFired | False |
FlashFirmwareVersion | 0 |
FlashFunction | False |
FlashIntensity | 0 0 0 |
FlashMode (1) | Auto |
FlashMode | Forced On |
FlashModel | None |
FlashRedEyeMode | False |
FlashRemoteControl | Unknown (0x29) |
FlashReturn | No return detection |
FlashSerialNumber | |
FlashType | None |
FNumber | 8.0 |
FocalLength | 70.0 mm |
FocalLength35efl | 70.0 mm (35 mm equivalent: 140.0 mm) |
FocalLengthIn35mmFormat | 140 mm |
FocusDistance | 0.425 m |
FocusInfoVersion | 0100 |
FocusMode | MF; S-AF, MF |
FocusProcess | AF Used; 16 |
FocusStepCount | 2261 |
Format | image/x-olympus-raw |
FOV | 12.3 deg (0.09 m) |
GainBase | 256 |
GainControl | Low gain up |
Gradation | Normal; User-Selected |
GrainAmount | 0 |
GreenHue | 0 |
GreenSaturation | 0 |
HasCrop | True |
HasSettings | True |
HierarchicalSubject | Blomst |
Highlights2012 | -13 |
HueAdjustmentAqua | 0 |
HueAdjustmentBlue | 0 |
HueAdjustmentGreen | 0 |
HueAdjustmentMagenta | 0 |
HueAdjustmentOrange | 0 |
HueAdjustmentPurple | 0 |
HueAdjustmentRed | 0 |
HueAdjustmentYellow | 0 |
HyperfocalDistance | 40.77 m |
ImageCreatorImageCreatorName | Torstein Hall |
ImageHeight (1) | 3024 |
ImageHeight | 1500 |
ImageProcessingVersion | 0112 |
ImageSize | 2000x1500 |
ImageStabilization | On, Mode 1 |
ImageWidth (1) | 4032 |
ImageWidth | 2000 |
InternalFlash | Off |
InternalSerialNumber | 4109102000078001 |
ISO | 200 |
Lens | OLYMPUS 50mm Lens |
LensFirmwareVersion | 1.008 |
LensID | Olympus Zuiko Digital ED 50mm F2.0 Macro |
LensInfo | 50mm f/2 |
LensManualDistortionAmount | 0 |
LensModel | OLYMPUS 50mm Lens |
LensProfileEnable | 0 |
LensProfileSetup | LensDefaults |
LensProperties | 0x4003 |
LensSerialNumber | 010104072 |
LensType | Olympus Zuiko Digital ED 50mm F2.0 Macro |
LightSource | Unknown |
LightValue | 14.6 |
LuminanceAdjustmentAqua | 0 |
LuminanceAdjustmentBlue | 0 |
LuminanceAdjustmentGreen | 0 |
LuminanceAdjustmentMagenta | 0 |
LuminanceAdjustmentOrange | 0 |
LuminanceAdjustmentPurple | 0 |
LuminanceAdjustmentRed | 0 |
LuminanceAdjustmentYellow | -10 |
LuminanceSmoothing | 0 |
MacroLED | Off |
MacroMode | Off |
Make | OLYMPUS IMAGING CORP. |
ManometerPressure | 0 kPa |
ManometerReading | 0 m, 0 ft |
ManualFlash | Off |
ManualFlashStrength | 1 1 1 |
Marked | True |
MaxAperture | 2.8 |
MaxApertureAtMaxFocal | 2.0 |
MaxApertureAtMinFocal | 2.0 |
MaxApertureValue | 2.8 |
MaxFaces | 8 8 0 |
MaxFocalLength | 50 |
Megapixels | 3.0 |
MeteringMode (1) | Multi-segment |
MeteringMode | ESP |
MinFocalLength | 50 |
Model | E-5 |
ModifiedSaturation | Off |
ModifyDate (1) | 2023:11:12 15:31:09+01:00 |
ModifyDate | 2023:11:12 15:31:09 |
MultipleExposureMode | Off; 1 |
NoiseFilter | Low |
NoiseReduction | (none) |
NoiseReduction2 | (none) |
Orientation | Horizontal (normal) |
PanoramaMode | Off |
ParametricDarks | 0 |
ParametricHighlights | 0 |
ParametricHighlightSplit | 75 |
ParametricLights | 0 |
ParametricMidtoneSplit | 50 |
ParametricShadows | 0 |
ParametricShadowSplit | 25 |
PerspectiveAspect | 0 |
PerspectiveHorizontal | 0 |
PerspectiveRotate | 0.0 |
PerspectiveScale | 100 |
PerspectiveUpright | 0 |
PerspectiveVertical | 0 |
PerspectiveX | 0.00 |
PerspectiveY | 0.00 |
PictureMode | i-Enhance; 2 |
PictureModeBWFilter | n/a |
PictureModeContrast | 1 (min -2, max 2) |
PictureModeEffect | Low |
PictureModeSaturation | 2 (min -2, max 2) |
PictureModeSharpness | 0 (min -2, max 2) |
PictureModeTone | n/a |
PostCropVignetteAmount | 0 |
PrintIMVersion | 0300 |
ProcessVersion | 6.7 |
Rating | 0 |
RatingPercent | 0 |
RawDevColorSpace | sRGB |
RawDevContrastValue | 0 0 0 |
RawDevEditStatus | Original |
RawDevEngine | High Speed |
RawDevExposureBiasValue | 0 |
RawDevGrayPoint | 0 0 0 |
RawDevMemoryColorEmphasis | 0 |
RawDevNoiseReduction | (none) |
RawDevSaturationEmphasis | 0 0 0 |
RawDevSettings | (none) |
RawDevSharpnessValue | 0 0 0 |
RawDevVersion | 0100 |
RawDevWBFineAdjustment | 0 |
RawDevWhiteBalanceValue | 0 |
RawFileName | P5177656.ORF |
RedBalance | 1.671875 |
RedHue | 0 |
RedSaturation | 0 |
Saturation (2) | +16 |
Saturation | High |
SaturationAdjustmentAqua | 0 |
SaturationAdjustmentBlue | 0 |
SaturationAdjustmentGreen | 0 |
SaturationAdjustmentMagenta | 0 |
SaturationAdjustmentOrange | 0 |
SaturationAdjustmentPurple | 0 |
SaturationAdjustmentRed | 0 |
SaturationAdjustmentYellow | 0 |
ScaleFactor35efl | 2.0 |
SceneCaptureType | Standard |
SceneDetect | 0 |
SceneMode | Standard |
SensorCalibration | 4043 322 |
SensorTemperature | 24.3 C |
SerialNumber | AB1502521 |
ShadingCompensation | On |
ShadingCompensation2 | On |
Shadows2012 | 0 |
ShadowTint | 0 |
SharpenDetail | 33 |
SharpenEdgeMasking | 23 |
SharpenRadius | +1.0 |
Sharpness (2) | 40 |
Sharpness | Normal |
SharpnessSetting | 0 (min -5, max 5) |
ShutterSpeed | 1/800 |
ShutterSpeedValue | 1/800 |
SidecarForExtension | ORF |
Software | DxO PhotoLab 7.1 |
SpecialMode | Fast, Sequence: 1, Panorama: (none) |
SplitToningBalance | 0 |
SplitToningHighlightHue | 0 |
SplitToningHighlightSaturation | 0 |
SplitToningShadowHue | 0 |
SplitToningShadowSaturation | 0 |
Subject | Blomst |
SubjectDistance | 0.425 m |
Tint | +11 |
ToneCurve | 0, 0, 32, 22, 64, 56, 128, 128, 192, 196, 255, 255 |
ToneCurveBlue | 0, 0, 255, 255 |
ToneCurveGreen | 0, 0, 255, 255 |
ToneCurveName | Medium Contrast |
ToneCurveName2012 | Linear |
ToneCurvePV2012 | 0, 0, 255, 255 |
ToneCurvePV2012Blue | 0, 0, 255, 255 |
ToneCurvePV2012Green | 0, 0, 255, 255 |
ToneCurvePV2012Red | 0, 0, 255, 255 |
ToneCurveRed | 0, 0, 255, 255 |
ToneLevel | 0; 0; 0; 0; 0; 0; 0; 0; 0; 0; 0; 0 |
ToneMapStrength | 0 |
UsageTerms | Contact me at: tohall@online.no for price |
UserComment | |
ValidBits | 12 0 |
Version | 9.12 |
Vibrance | +9 |
VignetteAmount | 0 |
WB_RBLevels | 428 370 256 256 |
WB_RBLevels3000K | 254 650 256 256 |
WB_RBLevels3300K | 312 508 256 256 |
WB_RBLevels3600K | 338 468 256 256 |
WB_RBLevels3900K | 360 434 256 256 |
WB_RBLevels4000K | 416 520 256 256 |
WB_RBLevels4300K | 378 422 256 256 |
WB_RBLevels4500K | 418 442 256 256 |
WB_RBLevels4800K | 410 384 256 256 |
WB_RBLevels5300K | 436 358 256 256 |
WB_RBLevels6000K | 480 322 256 256 |
WB_RBLevels6600K | 512 354 256 256 |
WB_RBLevels7500K | 522 280 256 256 |
WB_RBLevelsCWB1 | 478 384 256 256 |
WB_RBLevelsCWB2 | 268 752 256 256 |
WB_RBLevelsCWB3 | 384 384 256 256 |
WB_RBLevelsCWB4 | 270 744 256 256 |
WhiteBalance (2) | As Shot |
WhiteBalance | Auto |
WhiteBalance2 | Auto |
WhiteBalanceBracket | 0 0 |
WhiteBalanceTemperature | Auto |
Whites2012 | +29 |
ZoomStepCount | 0 |